BEGIN:VCALENDAR
CALSCALE:GREGORIAN
METHOD:PUBLISH
PRODID:-//5.199.133.97//NONSGML iCalcreator 2.6//
VERSION:2.0
UNIQUE_ID:event1444@Йога секреты
X-WR-TIMEZONE:Asia/Baku
BEGIN:VEVENT
UID:event1444@Йога секреты
DTSTAMP:20260420T102841Z
CATEGORIES:Курс обучения
DESCRIPTION:Cертификационный йога-курс для инс
 трукторов йоги\nТип события: Курс обучен
 я\nСсылка: https://yogasecrets.ru/index.php?option=com_eventlist&v
 iew=details&id=1444:c-----&Itemid=117\n
DTSTART;VALUE=DATE:20160328
DTEND;VALUE=DATE:20160509
LOCATION:Индия\,Ришикеш\,India
SUMMARY:Cертификационный йога-курс для инстр
 укторов йоги
URL:https://yogasecrets.ru/index.php?option=com_eventlist&view=details&id=1
 444:c-----&Itemid=117
END:VEVENT
END:VCALENDAR
