BEGIN:VCALENDAR
CALSCALE:GREGORIAN
METHOD:PUBLISH
PRODID:-//5.199.133.97//NONSGML iCalcreator 2.6//
VERSION:2.0
UNIQUE_ID:event1474@Йога секреты
X-WR-TIMEZONE:Asia/Baku
BEGIN:VEVENT
UID:event1474@Йога секреты
DTSTAMP:20260420T102835Z
CATEGORIES:Курс обучения
DESCRIPTION:14-27 марта обучающий курс с Анатоли
 м Зенченко\nТип события: Курс обучения\nС
 сылка: https://yogasecrets.ru/index.php?option=com_eventlist&view=det
 ails&id=1474:14-27------&Itemid=117\n
DTSTART;TZID=Asia/Baku:20160314T090000
DTEND;TZID=Asia/Baku:20160327T180000
LOCATION:Зеленая Тара\,Кронверкский проспект
 \, д.35\,Санкт-Петербург\,Russian Federation
SUMMARY:14-27 марта обучающий курс с Анатолием 
 Зенченко
URL:https://yogasecrets.ru/index.php?option=com_eventlist&view=details&id=1
 474:14-27------&Itemid=117
END:VEVENT
END:VCALENDAR
