BEGIN:VCALENDAR
CALSCALE:GREGORIAN
METHOD:PUBLISH
PRODID:-//5.199.133.97//NONSGML iCalcreator 2.6//
VERSION:2.0
UNIQUE_ID:event1512@Йога секреты
X-WR-TIMEZONE:Asia/Baku
BEGIN:VEVENT
UID:event1512@Йога секреты
DTSTAMP:20260420T131711Z
CATEGORIES:Курс обучения
DESCRIPTION:Курс для инструкторов хатха-йоги п
 о системе Андрея Лобанова\nТип события: К
 урс обучения\nСсылка: https://yogasecrets.ru/index.php?op
 tion=com_eventlist&view=details&id=1512:--------&Itemid=117\n
DTSTART;VALUE=DATE:20160201
DTEND;VALUE=DATE:20160202
LOCATION:экоцентр 'МиРАйЯ'\,Алексеевская\, 41\,Н
 ижний Новгород\,Russian Federation
SUMMARY:Курс для инструкторов хатха-йоги по 
 истеме Андрея Лобанова
URL:https://yogasecrets.ru/index.php?option=com_eventlist&view=details&id=1
 512:--------&Itemid=117
END:VEVENT
END:VCALENDAR
