BEGIN:VCALENDAR
CALSCALE:GREGORIAN
METHOD:PUBLISH
PRODID:-//5.199.133.97//NONSGML iCalcreator 2.6//
VERSION:2.0
UNIQUE_ID:event1513@Йога секреты
X-WR-TIMEZONE:Asia/Baku
BEGIN:VEVENT
UID:event1513@Йога секреты
DTSTAMP:20260420T131427Z
CATEGORIES:Курс обучения
DESCRIPTION:«Йога для беременных»\, курс для ин
 структоров\nТип события: Курс обучения\nС
 сылка: https://yogasecrets.ru/index.php?option=com_eventlist&view=det
 ails&id=1513:l--r---&Itemid=117\n
DTSTART;TZID=Asia/Baku:20160220T090000
DTEND;TZID=Asia/Baku:20160220T090000
LOCATION:экоцентр 'МиРАйЯ'\,Алексеевская\, 41\,Н
 ижний Новгород\,Russian Federation
SUMMARY:«Йога для беременных»\, курс для инст
 рукторов
URL:https://yogasecrets.ru/index.php?option=com_eventlist&view=details&id=1
 513:l--r---&Itemid=117
END:VEVENT
END:VCALENDAR
