BEGIN:VCALENDAR
CALSCALE:GREGORIAN
METHOD:PUBLISH
PRODID:-//5.199.133.97//NONSGML iCalcreator 2.6//
VERSION:2.0
UNIQUE_ID:event1514@Йога секреты
X-WR-TIMEZONE:Asia/Baku
BEGIN:VEVENT
UID:event1514@Йога секреты
DTSTAMP:20260420T131426Z
CATEGORIES:Курс обучения
DESCRIPTION:«Детская йога»\, курс для инструкт
 ров\nТип события: Курс обучения\nСсылка: h
 ttps://yogasecrets.ru/index.php?option=com_eventlist&view=details&id=1514:
 l-r---&Itemid=117\n
DTSTART;TZID=Asia/Baku:20160220T090000
DTEND;TZID=Asia/Baku:20160515T090000
LOCATION:экоцентр 'МиРАйЯ'\,Алексеевская\, 41\,Н
 ижний Новгород\,Russian Federation
SUMMARY:«Детская йога»\, курс для инструктор
 в
URL:https://yogasecrets.ru/index.php?option=com_eventlist&view=details&id=1
 514:l-r---&Itemid=117
END:VEVENT
END:VCALENDAR
