BEGIN:VCALENDAR
CALSCALE:GREGORIAN
METHOD:PUBLISH
PRODID:-//5.199.133.97//NONSGML iCalcreator 2.6//
VERSION:2.0
UNIQUE_ID:event1515@Йога секреты
X-WR-TIMEZONE:Asia/Baku
BEGIN:VEVENT
UID:event1515@Йога секреты
DTSTAMP:20260420T102752Z
CATEGORIES:Курс обучения
DESCRIPTION:«Пранаяма в классической йоге»\, к
 рс для инструкторов\nТип события: Курс о
 учения\nСсылка: https://yogasecrets.ru/index.php?option=com_e
 ventlist&view=details&id=1515:l---r---&Itemid=117\n
DTSTART;VALUE=DATE:20160312
DTEND;VALUE=DATE:20160516
LOCATION:экоцентр 'МиРАйЯ'\,Алексеевская\, 41\,Н
 ижний Новгород\,Russian Federation
SUMMARY:«Пранаяма в классической йоге»\, кур
  для инструкторов
URL:https://yogasecrets.ru/index.php?option=com_eventlist&view=details&id=1
 515:l---r---&Itemid=117
END:VEVENT
END:VCALENDAR
