BEGIN:VCALENDAR
CALSCALE:GREGORIAN
METHOD:PUBLISH
PRODID:-//5.199.133.97//NONSGML iCalcreator 2.6//
VERSION:2.0
UNIQUE_ID:event1519@Йога секреты
X-WR-TIMEZONE:Asia/Baku
BEGIN:VEVENT
UID:event1519@Йога секреты
DTSTAMP:20260420T132534Z
CATEGORIES:Курс обучения
DESCRIPTION:Коррекция веса методами йоги\, кур
  Сунила Дахия\nТип события: Курс обучени
 \nСсылка: https://yogasecrets.ru/index.php?option=com_eventlist&vie
 w=details&id=1519:------&Itemid=117\n
DTSTART;TZID=Asia/Baku:20160214T130000
DTEND;TZID=Asia/Baku:20160219T143000
LOCATION:Центр аюрведы и йоги 'Керала'\,Мичури
 нский проспект\,3\,Москва\,Russian Federation
SUMMARY:Коррекция веса методами йоги\, курс С
 унила Дахия
URL:https://yogasecrets.ru/index.php?option=com_eventlist&view=details&id=1
 519:------&Itemid=117
END:VEVENT
END:VCALENDAR
