BEGIN:VCALENDAR
CALSCALE:GREGORIAN
METHOD:PUBLISH
PRODID:-//5.199.133.97//NONSGML iCalcreator 2.6//
VERSION:2.0
UNIQUE_ID:event1520@Йога секреты
X-WR-TIMEZONE:Asia/Baku
BEGIN:VEVENT
UID:event1520@Йога секреты
DTSTAMP:20260420T131427Z
CATEGORIES:Курс обучения
DESCRIPTION:Медитация\, курс Сунила Дахия\nТип 
 обытия: Курс обучения\nСсылка: https://yogasecret
 s.ru/index.php?option=com_eventlist&view=details&id=1520:---&Itemid=117\n
DTSTART;TZID=Asia/Baku:20160227T130000
DTEND;TZID=Asia/Baku:20160228T160000
LOCATION:Центр аюрведы и йоги 'Керала'\,Мичури
 нский проспект\,3\,Москва\,Russian Federation
SUMMARY:Медитация\, курс Сунила Дахия
URL:https://yogasecrets.ru/index.php?option=com_eventlist&view=details&id=1
 520:---&Itemid=117
END:VEVENT
END:VCALENDAR
