BEGIN:VCALENDAR
CALSCALE:GREGORIAN
METHOD:PUBLISH
PRODID:-//5.199.133.97//NONSGML iCalcreator 2.6//
VERSION:2.0
UNIQUE_ID:event1636@Йога секреты
X-WR-TIMEZONE:Asia/Baku
BEGIN:VEVENT
UID:event1636@Йога секреты
DTSTAMP:20260420T102835Z
CATEGORIES:Курс обучения
DESCRIPTION:Сертифицированный курс обучения м
 арма-массажу\nТип события: Курс обучения
 \nСсылка: https://yogasecrets.ru/index.php?option=com_eventlist&view
 =details&id=1636:----&Itemid=117\n
DTSTART;TZID=Asia/Baku:20160416T100000
DTEND;TZID=Asia/Baku:20160417T190000
LOCATION:Центр аюрведы и йоги 'Керала'\,Мичури
 нский проспект\,3\,Москва\,Russian Federation
SUMMARY:Сертифицированный курс обучения мар
 ма-массажу
URL:https://yogasecrets.ru/index.php?option=com_eventlist&view=details&id=1
 636:----&Itemid=117
END:VEVENT
END:VCALENDAR
