BEGIN:VCALENDAR
CALSCALE:GREGORIAN
METHOD:PUBLISH
PRODID:-//5.199.133.97//NONSGML iCalcreator 2.6//
VERSION:2.0
UNIQUE_ID:event1645@Йога секреты
X-WR-TIMEZONE:Asia/Baku
BEGIN:VEVENT
UID:event1645@Йога секреты
DTSTAMP:20260420T103016Z
CATEGORIES:Курс обучения
DESCRIPTION:'Викрити-виджняна - основы общей па
 толопатологии в Аюрведе'\nТип события: Ку
 рс обучения\nСсылка: https://yogasecrets.ru/index.php?opti
 on=com_eventlist&view=details&id=1645:q------q&Itemid=117\n
DTSTART;TZID=Asia/Baku:20160416T090000
DTEND;TZID=Asia/Baku:20160422T160000
LOCATION:Библиотека им.Волошина\,Новодевичий
  проезд\, 10\,Москва\,Russian Federation
SUMMARY:'Викрити-виджняна - основы общей пато
 лопатологии в Аюрведе'
URL:https://yogasecrets.ru/index.php?option=com_eventlist&view=details&id=1
 645:q------q&Itemid=117
END:VEVENT
END:VCALENDAR
