BEGIN:VCALENDAR
CALSCALE:GREGORIAN
METHOD:PUBLISH
PRODID:-//5.199.133.97//NONSGML iCalcreator 2.6//
VERSION:2.0
UNIQUE_ID:event1844@Йога секреты
X-WR-TIMEZONE:Asia/Baku
BEGIN:VEVENT
UID:event1844@Йога секреты
DTSTAMP:20260423T080919Z
CATEGORIES:Курс обучения
DESCRIPTION:ИНТЕНСИВНЫЙ КУРС ПО АШТАНГА-ВИНЬЯ
 А ЙОГЕ в Индии (Ришикеш) 1\nТип события: Ку
 рс обучения\nСсылка: https://yogasecrets.ru/index.php?opti
 on=com_eventlist&view=details&id=1844:---------1&Itemid=117\n
DTSTART;VALUE=DATE:20311013
DTEND;VALUE=DATE:20161028
LOCATION:Rishikul уogshala\,Ramjula\,Rishikesh\,India
SUMMARY:ИНТЕНСИВНЫЙ КУРС ПО АШТАНГА-ВИНЬЯСА 
 ЙОГЕ в Индии (Ришикеш) 1
URL:https://yogasecrets.ru/index.php?option=com_eventlist&view=details&id=1
 844:---------1&Itemid=117
END:VEVENT
END:VCALENDAR
