BEGIN:VCALENDAR
CALSCALE:GREGORIAN
METHOD:PUBLISH
PRODID:-//5.199.133.97//NONSGML iCalcreator 2.6//
VERSION:2.0
UNIQUE_ID:event3679@Йога секреты
X-WR-TIMEZONE:Asia/Baku
BEGIN:VEVENT
UID:event3679@Йога секреты
DTSTAMP:20260423T092205Z
CATEGORIES:Курс обучения
DESCRIPTION:Курс 'Йога за пределами асан'\nТип с
 обытия: Курс обучения\nСсылка: https://yogasecrets
 .ru/index.php?option=com_eventlist&view=details&id=3679:-q---q&Itemid=117
 \n
DTSTART;TZID=Asia/Baku:20201024T170000
DTEND;TZID=Asia/Baku:20210130T190000
LOCATION:Московский Университет йоги\,Russian Fede
 ration
SUMMARY:Курс 'Йога за пределами асан'
URL:https://yogasecrets.ru/index.php?option=com_eventlist&view=details&id=3
 679:-q---q&Itemid=117
END:VEVENT
END:VCALENDAR
