BEGIN:VCALENDAR
CALSCALE:GREGORIAN
METHOD:PUBLISH
PRODID:-//5.199.133.97//NONSGML iCalcreator 2.6//
VERSION:2.0
UNIQUE_ID:event3713@Йога секреты
X-WR-TIMEZONE:Asia/Baku
BEGIN:VEVENT
UID:event3713@Йога секреты
DTSTAMP:20260425T133655Z
CATEGORIES:Курс обучения
DESCRIPTION:Курсы обучения инструкторов йоги 
 чно и онлайн\nТип события: Курс обучения
 \nСсылка: https://yogasecrets.ru/index.php?option=com_eventlist&view
 =details&id=3713:------&Itemid=117\n
DTSTART;TZID=Asia/Baku:20221205T200000
DTEND;TZID=Asia/Baku:20220129T213000
LOCATION:Школа инструкторского обучения\,Спо
 ртивная набережная\, 4в\,Воронеж\,Russian Federat
 ion
SUMMARY:Курсы обучения инструкторов йоги оч
 о и онлайн
URL:https://yogasecrets.ru/index.php?option=com_eventlist&view=details&id=3
 713:------&Itemid=117
END:VEVENT
END:VCALENDAR
