BEGIN:VCALENDAR
CALSCALE:GREGORIAN
METHOD:PUBLISH
PRODID:-//5.199.133.97//NONSGML iCalcreator 2.6//
VERSION:2.0
UNIQUE_ID:event4337@Йога секреты
X-WR-TIMEZONE:Asia/Baku
BEGIN:VEVENT
UID:event4337@Йога секреты
DTSTAMP:20260421T023506Z
CATEGORIES:Курс обучения
DESCRIPTION:Регулярные занятия по ишвара йоге
 \nТип события: Курс обучения\nСсылка: https://
 yogasecrets.ru/index.php?option=com_eventlist&view=details&id=4337:----&It
 emid=117\n
DTSTART;VALUE=DATE:20151011
DTEND;VALUE=DATE:20150901
LOCATION:Центр Восточных Оздоровительных Пр
 ктик Daowellnes\,Б. Власьевский переулок\, дом
  10\,Москва\,Russian Federation
SUMMARY:Регулярные занятия по ишвара йоге
URL:https://yogasecrets.ru/index.php?option=com_eventlist&view=details&id=4
 337:----&Itemid=117
END:VEVENT
END:VCALENDAR
