BEGIN:VCALENDAR
CALSCALE:GREGORIAN
METHOD:PUBLISH
PRODID:-//5.199.133.97//NONSGML iCalcreator 2.6//
VERSION:2.0
UNIQUE_ID:event4813@Йога секреты
X-WR-TIMEZONE:Asia/Baku
BEGIN:VEVENT
UID:event4813@Йога секреты
DTSTAMP:20260421T082519Z
CATEGORIES:Курс обучения
DESCRIPTION:ТАЙЦЗИ-ЦИГУН мастера Лю Шаобиня\nТ
 п события: Курс обучения\nСсылка: https://yogas
 ecrets.ru/index.php?option=com_eventlist&view=details&id=4813:----&Itemid=
 117\n
DTSTART;VALUE=DATE:20140104
DTEND;VALUE=DATE:20140105
LOCATION:Центр Восточных Оздоровительных Пр
 ктик Daowellnes\,Б. Власьевский переулок\, дом
  10\,Москва\,Russian Federation
SUMMARY:ТАЙЦЗИ-ЦИГУН мастера Лю Шаобиня
URL:https://yogasecrets.ru/index.php?option=com_eventlist&view=details&id=4
 813:----&Itemid=117
END:VEVENT
END:VCALENDAR
