BEGIN:VCALENDAR
CALSCALE:GREGORIAN
METHOD:PUBLISH
PRODID:-//5.199.133.97//NONSGML iCalcreator 2.6//
VERSION:2.0
UNIQUE_ID:event5454@Йога секреты
X-WR-TIMEZONE:Asia/Baku
BEGIN:VEVENT
UID:event5454@Йога секреты
DTSTAMP:20260421T120818Z
CATEGORIES:Курс обучения
DESCRIPTION:ТАЙЦЗИ-ЦИГУН мастера Лю Шаобиня\nТ
 п события: Курс обучения\nСсылка: https://yogas
 ecrets.ru/index.php?option=com_eventlist&view=details&id=5454:----&Itemid=
 117\n
DTSTART;TZID=Asia/Baku:20150501T183000
DTEND;TZID=Asia/Baku:20150501T210000
LOCATION:Центр Восточных Оздоровительных Пр
 ктик Daowellnes\,Б. Власьевский переулок\, дом
  10\,Москва\,Russian Federation
SUMMARY:ТАЙЦЗИ-ЦИГУН мастера Лю Шаобиня
URL:https://yogasecrets.ru/index.php?option=com_eventlist&view=details&id=5
 454:----&Itemid=117
END:VEVENT
END:VCALENDAR
