BEGIN:VCALENDAR
CALSCALE:GREGORIAN
METHOD:PUBLISH
PRODID:-//5.199.133.97//NONSGML iCalcreator 2.6//
VERSION:2.0
UNIQUE_ID:event555@Йога секреты
X-WR-TIMEZONE:Asia/Baku
BEGIN:VEVENT
UID:event555@Йога секреты
DTSTAMP:20260421T082627Z
CATEGORIES:Курс обучения
DESCRIPTION:Йога-тур в Индию 'Пробуждение души'
 \nТип события: Курс обучения\nСсылка: https://
 yogasecrets.ru/index.php?option=com_eventlist&view=details&id=555:----q-q&
 Itemid=117\n
DTSTART;TZID=Asia/Baku:20140113T060000
DTEND;TZID=Asia/Baku:20140126T210000
LOCATION:Индия\,Ришикеш\,India
SUMMARY:Йога-тур в Индию 'Пробуждение души'
URL:https://yogasecrets.ru/index.php?option=com_eventlist&view=details&id=5
 55:----q-q&Itemid=117
END:VEVENT
END:VCALENDAR
