BEGIN:VCALENDAR
CALSCALE:GREGORIAN
METHOD:PUBLISH
PRODID:-//5.199.133.97//NONSGML iCalcreator 2.6//
VERSION:2.0
UNIQUE_ID:event556@Йога секреты
X-WR-TIMEZONE:Asia/Baku
BEGIN:VEVENT
UID:event556@Йога секреты
DTSTAMP:20260421T112045Z
CATEGORIES:Курс обучения
DESCRIPTION:Индия: йога-тур 'Тайны древних прак
 тик'\nТип события: Курс обучения\nСсылка: h
 ttps://yogasecrets.ru/index.php?option=com_eventlist&view=details&id=556:-
 --q--q&Itemid=117\n
DTSTART;TZID=Asia/Baku:20140127T060000
DTEND;TZID=Asia/Baku:20140209T210000
LOCATION:Индия\,Ришикеш\,India
SUMMARY:Индия: йога-тур 'Тайны древних практи
 к'
URL:https://yogasecrets.ru/index.php?option=com_eventlist&view=details&id=5
 56:---q--q&Itemid=117
END:VEVENT
END:VCALENDAR
