BEGIN:VCALENDAR
CALSCALE:GREGORIAN
METHOD:PUBLISH
PRODID:-//5.199.133.97//NONSGML iCalcreator 2.6//
VERSION:2.0
UNIQUE_ID:event560@Йога секреты
X-WR-TIMEZONE:Asia/Baku
BEGIN:VEVENT
UID:event560@Йога секреты
DTSTAMP:20260421T111609Z
CATEGORIES:Курс обучения
DESCRIPTION:КУРС ПОДГОТОВКИ ПРОФЕССИОНАЛЬНЫХ 
 ПРЕПОДАВАТЕЛЕЙ ЙОГИ (250 ч\nТип события: Ку
 рс обучения\nСсылка: https://yogasecrets.ru/index.php?opti
 on=com_eventlist&view=details&id=560:-----250-&Itemid=117\n
DTSTART;VALUE=DATE:20140301
DTEND;VALUE=DATE:20140714
LOCATION:Московский Университет йоги\,Russian Fede
 ration
SUMMARY:КУРС ПОДГОТОВКИ ПРОФЕССИОНАЛЬНЫХ ПР
 ЕПОДАВАТЕЛЕЙ ЙОГИ (250 ч
URL:https://yogasecrets.ru/index.php?option=com_eventlist&view=details&id=5
 60:-----250-&Itemid=117
END:VEVENT
END:VCALENDAR
