BEGIN:VCALENDAR
CALSCALE:GREGORIAN
METHOD:PUBLISH
PRODID:-//5.199.133.97//NONSGML iCalcreator 2.6//
VERSION:2.0
UNIQUE_ID:event575@Йога секреты
X-WR-TIMEZONE:Asia/Baku
BEGIN:VEVENT
UID:event575@Йога секреты
DTSTAMP:20260421T112311Z
CATEGORIES:Курс обучения
DESCRIPTION:Курс-инициация «Вишуддхи Шуддхи». 
 Тантрическая Крийя-йога.\nТип события: Ку
 рс обучения\nСсылка: https://yogasecrets.ru/index.php?opti
 on=com_eventlist&view=details&id=575:--l-r---&Itemid=117\n
DTSTART;VALUE=DATE:20140227
DTEND;VALUE=DATE:20140325
LOCATION:Центр аюрведы и йоги 'Керала'\,Мичури
 нский проспект\,3\,Москва\,Russian Federation
SUMMARY:Курс-инициация «Вишуддхи Шуддхи». Та
 нтрическая Крийя-йога.
URL:https://yogasecrets.ru/index.php?option=com_eventlist&view=details&id=5
 75:--l-r---&Itemid=117
END:VEVENT
END:VCALENDAR
