BEGIN:VCALENDAR
CALSCALE:GREGORIAN
METHOD:PUBLISH
PRODID:-//5.199.133.97//NONSGML iCalcreator 2.6//
VERSION:2.0
UNIQUE_ID:event577@Йога секреты
X-WR-TIMEZONE:Asia/Baku
BEGIN:VEVENT
UID:event577@Йога секреты
DTSTAMP:20260422T012839Z
CATEGORIES:Курс обучения
DESCRIPTION:КУРСЫ ПОДГОТОВКИ ПРЕПОДАВАТЕЛЕЙ Й
 ОГИ В ТАИЛАНДЕ\, О. САМУИ\nТип события: Кур
 с обучения\nСсылка: https://yogasecrets.ru/index.php?option
 =com_eventlist&view=details&id=577:-------&Itemid=117\n
DTSTART;TZID=Asia/Baku:20141109T083000
DTEND;TZID=Asia/Baku:20141207T210000
LOCATION:Ретритный центр «Викаса-йога» \,211 Moo 
 4\,Tambol Maret\,Surat Thani 84310\,Thailand\,остров Самуи\,Tha
 iland
SUMMARY:КУРСЫ ПОДГОТОВКИ ПРЕПОДАВАТЕЛЕЙ ЙОГ
 И В ТАИЛАНДЕ\, О. САМУИ
URL:https://yogasecrets.ru/index.php?option=com_eventlist&view=details&id=5
 77:-------&Itemid=117
END:VEVENT
END:VCALENDAR
