BEGIN:VCALENDAR
CALSCALE:GREGORIAN
METHOD:PUBLISH
PRODID:-//5.199.133.97//NONSGML iCalcreator 2.6//
VERSION:2.0
UNIQUE_ID:event601@Йога секреты
X-WR-TIMEZONE:Asia/Baku
BEGIN:VEVENT
UID:event601@Йога секреты
DTSTAMP:20260421T112316Z
CATEGORIES:Курс обучения
DESCRIPTION:Вишуддхи шуддхи. Курс-инициация в 
 антрическую Крийя-йогу\nТип события: Кур
 с обучения\nСсылка: https://yogasecrets.ru/index.php?option
 =com_eventlist&view=details&id=601:-------&Itemid=117\n
DTSTART;VALUE=DATE:20140227
DTEND;VALUE=DATE:20140328
LOCATION:Центр аюрведы и йоги 'Керала'\,Мичури
 нский проспект\,3\,Москва\,Russian Federation
SUMMARY:Вишуддхи шуддхи. Курс-инициация в Та
 трическую Крийя-йогу
URL:https://yogasecrets.ru/index.php?option=com_eventlist&view=details&id=6
 01:-------&Itemid=117
END:VEVENT
END:VCALENDAR
