BEGIN:VCALENDAR
CALSCALE:GREGORIAN
METHOD:PUBLISH
PRODID:-//5.199.133.97//NONSGML iCalcreator 2.6//
VERSION:2.0
UNIQUE_ID:event605@Йога секреты
X-WR-TIMEZONE:Asia/Baku
BEGIN:VEVENT
UID:event605@Йога секреты
DTSTAMP:20260421T111604Z
CATEGORIES:Курс обучения
DESCRIPTION:Медитация в условиях мегаполиса: ц
 икл занятий\nТип события: Курс обучения\n
 сылка: https://yogasecrets.ru/index.php?option=com_eventlist&view=de
 tails&id=605:-----&Itemid=117\n
DTSTART;VALUE=DATE:20140305
DTEND;VALUE=DATE:20140311
LOCATION:
SUMMARY:Медитация в условиях мегаполиса: цик
 л занятий
URL:https://yogasecrets.ru/index.php?option=com_eventlist&view=details&id=6
 05:-----&Itemid=117
END:VEVENT
END:VCALENDAR
