BEGIN:VCALENDAR
CALSCALE:GREGORIAN
METHOD:PUBLISH
PRODID:-//5.199.133.97//NONSGML iCalcreator 2.6//
VERSION:2.0
UNIQUE_ID:event632@Йога секреты
X-WR-TIMEZONE:Asia/Baku
BEGIN:VEVENT
UID:event632@Йога секреты
DTSTAMP:20260421T140829Z
CATEGORIES:Курс обучения
DESCRIPTION:Тренинг «Искусство управления раз
 умом»\nТип события: Курс обучения\nСсылка
 : https://yogasecrets.ru/index.php?option=com_eventlist&view=details&id=63
 2:-l--r&Itemid=117\n
DTSTART;TZID=Asia/Baku:20140330T090000
DTEND;TZID=Asia/Baku:20140330T180000
LOCATION:Центр аюрведы и йоги 'Керала'\,Мичури
 нский проспект\,3\,Москва\,Russian Federation
SUMMARY:Тренинг «Искусство управления разум
 ом»
URL:https://yogasecrets.ru/index.php?option=com_eventlist&view=details&id=6
 32:-l--r&Itemid=117
END:VEVENT
END:VCALENDAR
