BEGIN:VCALENDAR
CALSCALE:GREGORIAN
METHOD:PUBLISH
PRODID:-//5.199.133.97//NONSGML iCalcreator 2.6//
VERSION:2.0
UNIQUE_ID:event638@Йога секреты
X-WR-TIMEZONE:Asia/Baku
BEGIN:VEVENT
UID:event638@Йога секреты
DTSTAMP:20260421T142428Z
CATEGORIES:Курс обучения
DESCRIPTION:КЛАССИЧЕСКИЙ ОБЪЁМНЫЙ МАССАЖ. ПЕР
 АЯ СТУПЕНЬ.\nТип события: Курс обучения\n
 сылка: https://yogasecrets.ru/index.php?option=com_eventlist&view=de
 tails&id=638:----&Itemid=117\n
DTSTART;TZID=Asia/Baku:20140408T183000
DTEND;TZID=Asia/Baku:20140422T190000
LOCATION:Планета Перемен на Ушинского\,ул. Уш
 нского\, д.3\, к.3\,Санкт-Петербург\,Russian Federa
 tion
SUMMARY:КЛАССИЧЕСКИЙ ОБЪЁМНЫЙ МАССАЖ. ПЕРВА
  СТУПЕНЬ.
URL:https://yogasecrets.ru/index.php?option=com_eventlist&view=details&id=6
 38:----&Itemid=117
END:VEVENT
END:VCALENDAR
