BEGIN:VCALENDAR
CALSCALE:GREGORIAN
METHOD:PUBLISH
PRODID:-//5.199.133.97//NONSGML iCalcreator 2.6//
VERSION:2.0
UNIQUE_ID:event656@Йога секреты
X-WR-TIMEZONE:Asia/Baku
BEGIN:VEVENT
UID:event656@Йога секреты
DTSTAMP:20260421T140829Z
CATEGORIES:Курс обучения
DESCRIPTION:Кулинарный мастер-класс от индийс
 ого шеф-повара\nТип события: Курс обучен
 я\nСсылка: https://yogasecrets.ru/index.php?option=com_eventlist&v
 iew=details&id=656:------&Itemid=117\n
DTSTART;TZID=Asia/Baku:20140502T130000
DTEND;TZID=Asia/Baku:20140502T150000
LOCATION:Центр 'Керала'\,Мичуринский проезд\, 
 ом 3 \,Москва
SUMMARY:Кулинарный мастер-класс от индийско
 о шеф-повара
URL:https://yogasecrets.ru/index.php?option=com_eventlist&view=details&id=6
 56:------&Itemid=117
END:VEVENT
END:VCALENDAR
