BEGIN:VCALENDAR
CALSCALE:GREGORIAN
METHOD:PUBLISH
PRODID:-//5.199.133.97//NONSGML iCalcreator 2.6//
VERSION:2.0
UNIQUE_ID:event665@Йога секреты
X-WR-TIMEZONE:Asia/Baku
BEGIN:VEVENT
UID:event665@Йога секреты
DTSTAMP:20260421T174414Z
CATEGORIES:Курс обучения
DESCRIPTION:Марма-массаж\, уникальный обучающи
 й курс проведет доктор Ниил\nТип события:
  Курс обучения\nСсылка: https://yogasecrets.ru/index.php
 ?option=com_eventlist&view=details&id=665:-------&Itemid=117\n
DTSTART;TZID=Asia/Baku:20140616T100000
DTEND;TZID=Asia/Baku:20140620T180000
LOCATION:Центр 'Керала'\,Мичуринский проезд\, 
 ом 3 \,Москва
SUMMARY:Марма-массаж\, уникальный обучающий 
 урс проведет доктор Ниил
URL:https://yogasecrets.ru/index.php?option=com_eventlist&view=details&id=6
 65:-------&Itemid=117
END:VEVENT
END:VCALENDAR
