BEGIN:VCALENDAR
CALSCALE:GREGORIAN
METHOD:PUBLISH
PRODID:-//5.199.133.97//NONSGML iCalcreator 2.6//
VERSION:2.0
UNIQUE_ID:event679@Йога секреты
X-WR-TIMEZONE:Asia/Baku
BEGIN:VEVENT
UID:event679@Йога секреты
DTSTAMP:20260421T172239Z
CATEGORIES:Курс обучения
DESCRIPTION:Молодёжный курс 'Yes+ Белые ночи!'\nТи
 п события: Курс обучения\nСсылка: https://yogase
 crets.ru/index.php?option=com_eventlist&view=details&id=679:--qyes--q&Item
 id=117\n
DTSTART;TZID=Asia/Baku:20140616T180000
DTEND;TZID=Asia/Baku:20140619T213000
LOCATION:Аюрведический центр 'Шанкара'\,Лизы 
 айкиной\,Санкт-Петербург\,Russian Federation
SUMMARY:Молодёжный курс 'Yes+ Белые ночи!'
URL:https://yogasecrets.ru/index.php?option=com_eventlist&view=details&id=6
 79:--qyes--q&Itemid=117
END:VEVENT
END:VCALENDAR
