BEGIN:VCALENDAR
CALSCALE:GREGORIAN
METHOD:PUBLISH
PRODID:-//5.199.133.97//NONSGML iCalcreator 2.6//
VERSION:2.0
UNIQUE_ID:event6817@Йога секреты
X-WR-TIMEZONE:Asia/Baku
BEGIN:VEVENT
UID:event6817@Йога секреты
DTSTAMP:20260421T111639Z
CATEGORIES:Курс обучения
DESCRIPTION:Регулярные занятия по хатха йоге и
  пранаяме\nТип события: Курс обучения\nСс
 лка: https://yogasecrets.ru/index.php?option=com_eventlist&view=detail
 s&id=6817:------&Itemid=117\n
DTSTART;TZID=Asia/Baku:20140211T100000
DTEND;TZID=Asia/Baku:20140211T113000
LOCATION:Центр Восточных Оздоровительных Пр
 ктик Daowellnes\,Б. Власьевский переулок\, дом
  10\,Москва\,Russian Federation
SUMMARY:Регулярные занятия по хатха йоге и п
 анаяме
URL:https://yogasecrets.ru/index.php?option=com_eventlist&view=details&id=6
 817:------&Itemid=117
END:VEVENT
END:VCALENDAR
