BEGIN:VCALENDAR
CALSCALE:GREGORIAN
METHOD:PUBLISH
PRODID:-//5.199.133.97//NONSGML iCalcreator 2.6//
VERSION:2.0
UNIQUE_ID:event688@Йога секреты
X-WR-TIMEZONE:Asia/Baku
BEGIN:VEVENT
UID:event688@Йога секреты
DTSTAMP:20260421T205437Z
CATEGORIES:Курс обучения
DESCRIPTION:Обучение аюрведе в Гималаях\, лето-
 осень 2014\nТип события: Курс обучения\nСсы
 ка: https://yogasecrets.ru/index.php?option=com_eventlist&view=details&
 id=688:------2014&Itemid=117\n
DTSTART;VALUE=DATE:20140802
DTEND;VALUE=DATE:20140816
LOCATION:Отель Рагини\,Нет там улиц\,Наггар\,Ind
 ia
SUMMARY:Обучение аюрведе в Гималаях\, лето-ос
 ень 2014
URL:https://yogasecrets.ru/index.php?option=com_eventlist&view=details&id=6
 88:------2014&Itemid=117
END:VEVENT
END:VCALENDAR
