BEGIN:VCALENDAR
CALSCALE:GREGORIAN
METHOD:PUBLISH
PRODID:-//5.199.133.97//NONSGML iCalcreator 2.6//
VERSION:2.0
UNIQUE_ID:event689@Йога секреты
X-WR-TIMEZONE:Asia/Baku
BEGIN:VEVENT
UID:event689@Йога секреты
DTSTAMP:20260422T001356Z
CATEGORIES:Курс обучения
DESCRIPTION:Обучение аюрведе в Гималаях\, осен
  2014\nТип события: Курс обучения\nСсылка: ht
 tps://yogasecrets.ru/index.php?option=com_eventlist&view=details&id=689:--
 ---2014&Itemid=117\n
DTSTART;VALUE=DATE:20141004
DTEND;VALUE=DATE:20141018
LOCATION:Отель Рагини\,Нет там улиц\,Наггар\,Ind
 ia
SUMMARY:Обучение аюрведе в Гималаях\, осень 20
 14
URL:https://yogasecrets.ru/index.php?option=com_eventlist&view=details&id=6
 89:-----2014&Itemid=117
END:VEVENT
END:VCALENDAR
