BEGIN:VCALENDAR
CALSCALE:GREGORIAN
METHOD:PUBLISH
PRODID:-//5.199.133.97//NONSGML iCalcreator 2.6//
VERSION:2.0
UNIQUE_ID:event690@Йога секреты
X-WR-TIMEZONE:Asia/Baku
BEGIN:VEVENT
UID:event690@Йога секреты
DTSTAMP:20260421T172545Z
CATEGORIES:Курс обучения
DESCRIPTION:«Марма-массаж»\, обучающий курс до
 тора Ниила с 16 по 20 июня\nТип события: Кур
 с обучения\nСсылка: https://yogasecrets.ru/index.php?option
 =com_eventlist&view=details&id=690:l-r------16--20-&Itemid=117\n
DTSTART;TZID=Asia/Baku:20140616T100000
DTEND;TZID=Asia/Baku:20140620T190000
LOCATION:Центр 'Керала'\,Мичуринский проезд\, 
 ом 3 \,Москва
SUMMARY:«Марма-массаж»\, обучающий курс докт
 ра Ниила с 16 по 20 июня
URL:https://yogasecrets.ru/index.php?option=com_eventlist&view=details&id=6
 90:l-r------16--20-&Itemid=117
END:VEVENT
END:VCALENDAR
