BEGIN:VCALENDAR
CALSCALE:GREGORIAN
METHOD:PUBLISH
PRODID:-//5.199.133.97//NONSGML iCalcreator 2.6//
VERSION:2.0
UNIQUE_ID:event698@Йога секреты
X-WR-TIMEZONE:Asia/Baku
BEGIN:VEVENT
UID:event698@Йога секреты
DTSTAMP:20260421T172545Z
CATEGORIES:Курс обучения
DESCRIPTION:Онлайн-курс 'Радужная гимнастика + 
 Йога-нидра'\nТип события: Курс обучения\nС
 сылка: https://yogasecrets.ru/index.php?option=com_eventlist&view=det
 ails&id=698:--q----q&Itemid=117\n
DTSTART;TZID=Asia/Baku:20140624T220000
DTEND;TZID=Asia/Baku:20140710T220000
LOCATION:
SUMMARY:Онлайн-курс 'Радужная гимнастика + Йо
 га-нидра'
URL:https://yogasecrets.ru/index.php?option=com_eventlist&view=details&id=6
 98:--q----q&Itemid=117
END:VEVENT
END:VCALENDAR
