BEGIN:VCALENDAR
CALSCALE:GREGORIAN
METHOD:PUBLISH
PRODID:-//5.199.133.97//NONSGML iCalcreator 2.6//
VERSION:2.0
UNIQUE_ID:event711@Йога секреты
X-WR-TIMEZONE:Asia/Baku
BEGIN:VEVENT
UID:event711@Йога секреты
DTSTAMP:20260421T205557Z
CATEGORIES:Курс обучения
DESCRIPTION:Курс ведического мантропения от С
 ами Таттварупананды\nТип события: Курс о
 бучения\nСсылка: https://yogasecrets.ru/index.php?option=com_
 eventlist&view=details&id=711:-----&Itemid=117\n
DTSTART;TZID=Asia/Baku:20140813T100000
DTEND;TZID=Asia/Baku:20140823T110000
LOCATION:Центр аюрведы и йоги 'Керала'\,Мичури
 нский проспект\,3\,Москва\,Russian Federation
SUMMARY:Курс ведического мантропения от Сва
 и Таттварупананды
URL:https://yogasecrets.ru/index.php?option=com_eventlist&view=details&id=7
 11:-----&Itemid=117
END:VEVENT
END:VCALENDAR
