BEGIN:VCALENDAR
CALSCALE:GREGORIAN
METHOD:PUBLISH
PRODID:-//5.199.133.97//NONSGML iCalcreator 2.6//
VERSION:2.0
UNIQUE_ID:event737@Йога секреты
X-WR-TIMEZONE:Asia/Baku
BEGIN:VEVENT
UID:event737@Йога секреты
DTSTAMP:20260422T001707Z
CATEGORIES:Курс обучения
DESCRIPTION:Точечный «Марма-массаж»\, обучающи
 й курс доктора Ниила\nТип события: Курс о
 учения\nСсылка: https://yogasecrets.ru/index.php?option=com_e
 ventlist&view=details&id=737:-l-r----&Itemid=117\n
DTSTART;TZID=Asia/Baku:20141017T100000
DTEND;TZID=Asia/Baku:20141019T180000
LOCATION:Центр аюрведы и йоги 'Керала'\,Мичури
 нский проспект\,3\,Москва\,Russian Federation
SUMMARY:Точечный «Марма-массаж»\, обучающий 
 урс доктора Ниила
URL:https://yogasecrets.ru/index.php?option=com_eventlist&view=details&id=7
 37:-l-r----&Itemid=117
END:VEVENT
END:VCALENDAR
