BEGIN:VCALENDAR
CALSCALE:GREGORIAN
METHOD:PUBLISH
PRODID:-//5.199.133.97//NONSGML iCalcreator 2.6//
VERSION:2.0
UNIQUE_ID:event738@Йога секреты
X-WR-TIMEZONE:Asia/Baku
BEGIN:VEVENT
UID:event738@Йога секреты
DTSTAMP:20260422T001707Z
CATEGORIES:Курс обучения
DESCRIPTION:ПОЛНЫЙ РУССКОЯЗЫЧНЫЙ КУРС ОБУЧЕНИ
 Я ПРЕПОДАВАТЕЛЕЙ ЙОГИ\nТип события: Курс 
 обучения\nСсылка: https://yogasecrets.ru/index.php?option=co
 m_eventlist&view=details&id=738:-----&Itemid=117\n
DTSTART;VALUE=DATE:20140915
DTEND;VALUE=DATE:20141020
LOCATION:Гималайская Академия Йоги\,Набережн
 ая Ганги\,Ришикеш\,India
SUMMARY:ПОЛНЫЙ РУССКОЯЗЫЧНЫЙ КУРС ОБУЧЕНИЯ 
 РЕПОДАВАТЕЛЕЙ ЙОГИ
URL:https://yogasecrets.ru/index.php?option=com_eventlist&view=details&id=7
 38:-----&Itemid=117
END:VEVENT
END:VCALENDAR
