BEGIN:VCALENDAR
CALSCALE:GREGORIAN
METHOD:PUBLISH
PRODID:-//5.199.133.97//NONSGML iCalcreator 2.6//
VERSION:2.0
UNIQUE_ID:event739@Йога секреты
X-WR-TIMEZONE:Asia/Baku
BEGIN:VEVENT
UID:event739@Йога секреты
DTSTAMP:20260422T001707Z
CATEGORIES:Курс обучения
DESCRIPTION:ИНТЕНСИВНЫЙ ВВОДНЫЙ КУРС ПО ЙОГЕ С
  ИНДИЙСКИМИ УЧИТЕЛЯМИ\nТип события: Курс 
 обучения\nСсылка: https://yogasecrets.ru/index.php?option=co
 m_eventlist&view=details&id=739:-------&Itemid=117\n
DTSTART;VALUE=DATE:20140918
DTEND;VALUE=DATE:20141002
LOCATION:Гималайская Академия Йоги\,Набережн
 ая Ганги\,Ришикеш\,India
SUMMARY:ИНТЕНСИВНЫЙ ВВОДНЫЙ КУРС ПО ЙОГЕ С И
 ДИЙСКИМИ УЧИТЕЛЯМИ
URL:https://yogasecrets.ru/index.php?option=com_eventlist&view=details&id=7
 39:-------&Itemid=117
END:VEVENT
END:VCALENDAR
