BEGIN:VCALENDAR
CALSCALE:GREGORIAN
METHOD:PUBLISH
PRODID:-//5.199.133.97//NONSGML iCalcreator 2.6//
VERSION:2.0
UNIQUE_ID:event752@Йога секреты
X-WR-TIMEZONE:Asia/Baku
BEGIN:VEVENT
UID:event752@Йога секреты
DTSTAMP:20260422T001840Z
CATEGORIES:Курс обучения
DESCRIPTION:Аюрведическая фармакология — Дра
 йагуна. Сессия 1\nТип события: Курс обуче
 ия\nСсылка: https://yogasecrets.ru/index.php?option=com_eventlist
 &view=details&id=752:-----1&Itemid=117\n
DTSTART;TZID=Asia/Baku:20140929T090000
DTEND;TZID=Asia/Baku:20141003T170000
LOCATION:Учебный центр\,Новодевичий проезд\, 1
 0\,Москва\,Russian Federation
SUMMARY:Аюрведическая фармакология — Дравй
 гуна. Сессия 1
URL:https://yogasecrets.ru/index.php?option=com_eventlist&view=details&id=7
 52:-----1&Itemid=117
END:VEVENT
END:VCALENDAR
