BEGIN:VCALENDAR
CALSCALE:GREGORIAN
METHOD:PUBLISH
PRODID:-//5.199.133.97//NONSGML iCalcreator 2.6//
VERSION:2.0
UNIQUE_ID:event754@Йога секреты
X-WR-TIMEZONE:Asia/Baku
BEGIN:VEVENT
UID:event754@Йога секреты
DTSTAMP:20260422T001759Z
CATEGORIES:Курс обучения
DESCRIPTION:Обучение экзотическим массажам в 
 ЕПАЛЕ: Ку-нье\, Чаши\, Мокса\nТип события: 
 урс обучения\nСсылка: https://yogasecrets.ru/index.php?o
 ption=com_eventlist&view=details&id=754:--------&Itemid=117\n
DTSTART;VALUE=DATE:20141004
DTEND;VALUE=DATE:20141020
LOCATION:
SUMMARY:Обучение экзотическим массажам в НЕ
 АЛЕ: Ку-нье\, Чаши\, Мокса
URL:https://yogasecrets.ru/index.php?option=com_eventlist&view=details&id=7
 54:--------&Itemid=117
END:VEVENT
END:VCALENDAR
