BEGIN:VCALENDAR
CALSCALE:GREGORIAN
METHOD:PUBLISH
PRODID:-//5.199.133.97//NONSGML iCalcreator 2.6//
VERSION:2.0
UNIQUE_ID:event7547@Йога секреты
X-WR-TIMEZONE:Asia/Baku
BEGIN:VEVENT
UID:event7547@Йога секреты
DTSTAMP:20260421T083047Z
CATEGORIES:Курс обучения
DESCRIPTION:Регулярные занятия по хатха йоге (
 ачальная группа)\nТип события: Курс обуч
 ния\nСсылка: https://yogasecrets.ru/index.php?option=com_eventli
 st&view=details&id=7547:------&Itemid=117\n
DTSTART;TZID=Asia/Baku:20140106T100000
DTEND;TZID=Asia/Baku:20140106T123000
LOCATION:Центр Восточных Оздоровительных Пр
 ктик Daowellnes\,Б. Власьевский переулок\, дом
  10\,Москва\,Russian Federation
SUMMARY:Регулярные занятия по хатха йоге (на
 альная группа)
URL:https://yogasecrets.ru/index.php?option=com_eventlist&view=details&id=7
 547:------&Itemid=117
END:VEVENT
END:VCALENDAR
