BEGIN:VCALENDAR
CALSCALE:GREGORIAN
METHOD:PUBLISH
PRODID:-//5.199.133.97//NONSGML iCalcreator 2.6//
VERSION:2.0
UNIQUE_ID:event781@Йога секреты
X-WR-TIMEZONE:Asia/Baku
BEGIN:VEVENT
UID:event781@Йога секреты
DTSTAMP:20260422T001707Z
CATEGORIES:Курс обучения
DESCRIPTION:Диагностика по марма-точкам и марм
 а-массаж от доктора Ниила\nТип события: К
 рс обучения\nСсылка: https://yogasecrets.ru/index.php?opt
 ion=com_eventlist&view=details&id=781:---------&Itemid=117\n
DTSTART;TZID=Asia/Baku:20141015T100000
DTEND;TZID=Asia/Baku:20141105T190000
LOCATION:Центр аюрведы и йоги 'Керала'\,Мичури
 нский проспект\,3\,Москва\,Russian Federation
SUMMARY:Диагностика по марма-точкам и марма-
 ассаж от доктора Ниила
URL:https://yogasecrets.ru/index.php?option=com_eventlist&view=details&id=7
 81:---------&Itemid=117
END:VEVENT
END:VCALENDAR
