BEGIN:VCALENDAR
CALSCALE:GREGORIAN
METHOD:PUBLISH
PRODID:-//5.199.133.97//NONSGML iCalcreator 2.6//
VERSION:2.0
UNIQUE_ID:event808@Йога секреты
X-WR-TIMEZONE:Asia/Baku
BEGIN:VEVENT
UID:event808@Йога секреты
DTSTAMP:20260422T013637Z
CATEGORIES:Курс обучения
DESCRIPTION:Доп. проф. образование. Хатха-йога 
  нетрадиционные системы\nТип события: Ку
 рс обучения\nСсылка: https://yogasecrets.ru/index.php?opti
 on=com_eventlist&view=details&id=808:-------&Itemid=117\n
DTSTART;VALUE=DATE:20141102
DTEND;VALUE=DATE:20150516
LOCATION:
SUMMARY:Доп. проф. образование. Хатха-йога и н
 етрадиционные системы
URL:https://yogasecrets.ru/index.php?option=com_eventlist&view=details&id=8
 08:-------&Itemid=117
END:VEVENT
END:VCALENDAR
