BEGIN:VCALENDAR
CALSCALE:GREGORIAN
METHOD:PUBLISH
PRODID:-//5.199.133.97//NONSGML iCalcreator 2.6//
VERSION:2.0
UNIQUE_ID:event830@Йога секреты
X-WR-TIMEZONE:Asia/Baku
BEGIN:VEVENT
UID:event830@Йога секреты
DTSTAMP:20260422T013831Z
CATEGORIES:Курс обучения
DESCRIPTION:'Константы йоги'  Авторский обучаю
 ий онлайн-курс\nТип события: Курс обучен
 я\nСсылка: https://yogasecrets.ru/index.php?option=com_eventlist&v
 iew=details&id=830:q-q----&Itemid=117\n
DTSTART;TZID=Asia/Baku:20141114T210000
DTEND;TZID=Asia/Baku:20141126T223000
LOCATION:
SUMMARY:'Константы йоги'  Авторский обучающи
  онлайн-курс
URL:https://yogasecrets.ru/index.php?option=com_eventlist&view=details&id=8
 30:q-q----&Itemid=117
END:VEVENT
END:VCALENDAR
