BEGIN:VCALENDAR
CALSCALE:GREGORIAN
METHOD:PUBLISH
PRODID:-//5.199.133.97//NONSGML iCalcreator 2.6//
VERSION:2.0
UNIQUE_ID:event935@Йога секреты
X-WR-TIMEZONE:Asia/Baku
BEGIN:VEVENT
UID:event935@Йога секреты
DTSTAMP:20260421T184237Z
CATEGORIES:Курс обучения
DESCRIPTION:Женский комплекс для домашней пра
 тики\nТип события: Курс обучения\nСсылка:
  https://yogasecrets.ru/index.php?option=com_eventlist&view=details&id=935
 :----&Itemid=117\n
DTSTART;TZID=Asia/Baku:20150201T120000
DTEND;TZID=Asia/Baku:20150201T133000
LOCATION: Школа Каула-йоги м. Тургеневская\,Ми
 лютинский пер.\, 15\,Москва\,Russian Federation
SUMMARY:Женский комплекс для домашней практ
 ки
URL:https://yogasecrets.ru/index.php?option=com_eventlist&view=details&id=9
 35:----&Itemid=117
END:VEVENT
END:VCALENDAR
