BEGIN:VCALENDAR
CALSCALE:GREGORIAN
METHOD:PUBLISH
PRODID:-//5.199.133.97//NONSGML iCalcreator 2.6//
VERSION:2.0
UNIQUE_ID:event953@Йога секреты
X-WR-TIMEZONE:Asia/Baku
BEGIN:VEVENT
UID:event953@Йога секреты
DTSTAMP:20260421T201610Z
CATEGORIES:Курс обучения
DESCRIPTION:Мастер-класс 'Энергии Счастливой Ж
 енщины'.\nТип события: Курс обучения\nСсыл
 ка: https://yogasecrets.ru/index.php?option=com_eventlist&view=details&i
 d=953:--q--q&Itemid=117\n
DTSTART;TZID=Asia/Baku:20150125T140000
DTEND;TZID=Asia/Baku:20150125T170000
LOCATION:
SUMMARY:Мастер-класс 'Энергии Счастливой Жен
 щины'.
URL:https://yogasecrets.ru/index.php?option=com_eventlist&view=details&id=9
 53:--q--q&Itemid=117
END:VEVENT
END:VCALENDAR
