BEGIN:VCALENDAR
CALSCALE:GREGORIAN
METHOD:PUBLISH
PRODID:-//5.199.133.97//NONSGML iCalcreator 2.6//
VERSION:2.0
UNIQUE_ID:event955@Йога секреты
X-WR-TIMEZONE:Asia/Baku
BEGIN:VEVENT
UID:event955@Йога секреты
DTSTAMP:20260421T152643Z
CATEGORIES:Курс обучения
DESCRIPTION:Точечный МАРМА-МАССАЖ\, Курс обуче
 ия от Гуру марма-терапии\nТип события: Ку
 рс обучения\nСсылка: https://yogasecrets.ru/index.php?opti
 on=com_eventlist&view=details&id=955:--------&Itemid=117\n
DTSTART;TZID=Asia/Baku:20150320T100000
DTEND;TZID=Asia/Baku:20150322T180000
LOCATION:Центр аюрведы и йоги 'Керала'\,Мичури
 нский проспект\,3\,Москва\,Russian Federation
SUMMARY:Точечный МАРМА-МАССАЖ\, Курс обучени
  от Гуру марма-терапии
URL:https://yogasecrets.ru/index.php?option=com_eventlist&view=details&id=9
 55:--------&Itemid=117
END:VEVENT
END:VCALENDAR
