BEGIN:VCALENDAR
CALSCALE:GREGORIAN
METHOD:PUBLISH
PRODID:-//5.199.133.97//NONSGML iCalcreator 2.6//
VERSION:2.0
UNIQUE_ID:event1015@Йога секреты
X-WR-TIMEZONE:Asia/Baku
BEGIN:VEVENT
UID:event1015@Йога секреты
DTSTAMP:20260421T120817Z
CATEGORIES:Практикум
DESCRIPTION:Йога-май в Абхазии. 1-8 мая\, 2015\nТип с
 обытия: Практикум\nСсылка: https://yogasecrets.ru/ind
 ex.php?option=com_eventlist&view=details&id=1015:----1-8--2015&Itemid=117
 \n
DTSTART;VALUE=DATE:20150501
DTEND;VALUE=DATE:20150509
LOCATION:Абхазия
SUMMARY:Йога-май в Абхазии. 1-8 мая\, 2015
URL:https://yogasecrets.ru/index.php?option=com_eventlist&view=details&id=1
 015:----1-8--2015&Itemid=117
END:VEVENT
END:VCALENDAR
