BEGIN:VCALENDAR
CALSCALE:GREGORIAN
METHOD:PUBLISH
PRODID:-//5.199.133.97//NONSGML iCalcreator 2.6//
VERSION:2.0
UNIQUE_ID:event1055@Йога секреты
X-WR-TIMEZONE:Asia/Baku
BEGIN:VEVENT
UID:event1055@Йога секреты
DTSTAMP:20260421T115858Z
CATEGORIES:Практикум
DESCRIPTION:Кундалини йога-тур в Туапсе\nТип со
 бытия: Практикум\nСсылка: https://yogasecrets.ru/index
 .php?option=com_eventlist&view=details&id=1055:----&Itemid=117\n
DTSTART;VALUE=DATE:20150518
DTEND;VALUE=DATE:20150525
LOCATION:Туапсе\, Небуг\,Туапсе\,Russian Federation
SUMMARY:Кундалини йога-тур в Туапсе
URL:https://yogasecrets.ru/index.php?option=com_eventlist&view=details&id=1
 055:----&Itemid=117
END:VEVENT
END:VCALENDAR
