BEGIN:VCALENDAR
CALSCALE:GREGORIAN
METHOD:PUBLISH
PRODID:-//5.199.133.97//NONSGML iCalcreator 2.6//
VERSION:2.0
UNIQUE_ID:event1056@Йога секреты
X-WR-TIMEZONE:Asia/Baku
BEGIN:VEVENT
UID:event1056@Йога секреты
DTSTAMP:20260421T120816Z
CATEGORIES:Практикум
DESCRIPTION:Йога-тур в Туапсе с Эдуардом и Киро
 й Маланья!\nТип события: Практикум\nСсылк
 : https://yogasecrets.ru/index.php?option=com_eventlist&view=details&id=1
 056:--------&Itemid=117\n
DTSTART;VALUE=DATE:20150525
DTEND;VALUE=DATE:20150601
LOCATION:Туапсе\, Небуг\,Туапсе\,Russian Federation
SUMMARY:Йога-тур в Туапсе с Эдуардом и Кирой 
 аланья!
URL:https://yogasecrets.ru/index.php?option=com_eventlist&view=details&id=1
 056:--------&Itemid=117
END:VEVENT
END:VCALENDAR
