BEGIN:VCALENDAR
CALSCALE:GREGORIAN
METHOD:PUBLISH
PRODID:-//5.199.133.97//NONSGML iCalcreator 2.6//
VERSION:2.0
UNIQUE_ID:event1098@Йога секреты
X-WR-TIMEZONE:Asia/Baku
BEGIN:VEVENT
UID:event1098@Йога секреты
DTSTAMP:20260421T121052Z
CATEGORIES:Практикум
DESCRIPTION:ЛАКШМИ ПУДЖА обеспечит материальн
 ое и духовное благополучие\nТип события: 
 Практикум\nСсылка: https://yogasecrets.ru/index.php?option=
 com_eventlist&view=details&id=1098:------&Itemid=117\n
DTSTART;TZID=Asia/Baku:20150425T180000
DTEND;TZID=Asia/Baku:20150425T203000
LOCATION:Центр аюрведы и йоги 'Керала'\,Мичури
 нский проспект\,3\,Москва\,Russian Federation
SUMMARY:ЛАКШМИ ПУДЖА обеспечит материальное
  и духовное благополучие
URL:https://yogasecrets.ru/index.php?option=com_eventlist&view=details&id=1
 098:------&Itemid=117
END:VEVENT
END:VCALENDAR
